{
 "currentVersion": 11.2,
 "serviceDescription": "AERIALS/2022Aerial",
 "name": "AERIALS/2022Aerial",
 "description": "",
 "extent": {
  "xmin": 1610399.999999995,
  "ymin": 115896.1645018776,
  "xmax": 1723919.8356037224,
  "ymax": 224136.000000005,
  "spatialReference": {
   "wkid": 102679,
   "latestWkid": 2246
  }
 },
 "initialExtent": {
  "xmin": 1610399.999999995,
  "ymin": 115896.1645018776,
  "xmax": 1723919.8356037224,
  "ymax": 224136.000000005,
  "spatialReference": {
   "wkid": 102679,
   "latestWkid": 2246
  }
 },
 "fullExtent": {
  "xmin": 1610399.999999995,
  "ymin": 115896.1645018776,
  "xmax": 1723919.8356037224,
  "ymax": 224136.000000005,
  "spatialReference": {
   "wkid": 102679,
   "latestWkid": 2246
  }
 },
 "sortableFields": "",
 "bandCount": 3,
 "pixelType": "U8",
 "minValues": [
  53,
  51,
  48
 ],
 "maxValues": [
  255,
  255,
  255
 ],
 "meanValues": [
  181.88095238095,
  173.08482142857,
  166.11517857143
 ],
 "stdvValues": [
  58.695943674626,
  64.190016992642,
  68.410250175941
 ],
 "hasMultidimensions": false,
 "pixelSizeX": 0.16666666999999596,
 "pixelSizeY": 0.166666669999996,
 "meanPixelSize": 0.05080010261620401,
 "datasetFormat": "MrSID",
 "uncompressedSize": 1327035726723,
 "blockWidth": 1024,
 "blockHeight": 128,
 "compressionType": "Wavelet (MG3)",
 "bandNames": [
  "Band_1",
  "Band_2",
  "Band_3"
 ],
 "allowCopy": true,
 "allowAnalysis": true,
 "itemAccess": false,
 "inspectionCapabilities": "",
 "minPixelSize": 0,
 "maxPixelSize": 0,
 "copyrightText": "",
 "serviceDataType": "esriImageServiceDataTypeRGB",
 "serviceSourceType": "esriImageServiceSourceTypeDataset",
 "objectIdField": "",
 "fields": [],
 "capabilities": "Image,Metadata,Mensuration",
 "defaultMosaicMethod": "Center",
 "allowedMosaicMethods": "",
 "sortField": "",
 "sortValue": null,
 "sortAscending": true,
 "mosaicOperator": "First",
 "defaultCompressionQuality": 75,
 "defaultResamplingMethod": "Bilinear",
 "maxImageHeight": 4100,
 "maxImageWidth": 15000,
 "allowRasterFunction": true,
 "rasterFunctionInfos": [
  {
   "name": "None",
   "description": "",
   "help": ""
  }
 ],
 "rasterTypeInfos": [
  {
   "name": "Raster Dataset",
   "description": "Supports all ArcGIS Raster Datasets",
   "help": ""
  }
 ],
 "mensurationCapabilities": "Basic",
 "hasHistograms": true,
 "hasColormap": false,
 "hasRasterAttributeTable": false,
 "minScale": 0,
 "maxScale": 0,
 "exportTilesAllowed": false,
 "supportsStatistics": false,
 "supportsAdvancedQueries": false,
 "editFieldsInfo": null,
 "ownershipBasedAccessControlForRasters": null,
 "allowComputeTiePoints": false,
 "useStandardizedQueries": true,
 "advancedQueryCapabilities": {
  "useStandardizedQueries": true,
  "supportsStatistics": false,
  "supportsOrderBy": false,
  "supportsDistinct": false,
  "supportsPagination": false
 },
 "spatialReference": {
  "wkid": 102679,
  "latestWkid": 2246
 }
}
