{
 "currentVersion": 11.2,
 "serviceDescription": "HISTORIClayers/1877winE_jpg",
 "name": "HISTORIClayers/1877winE_jpg",
 "description": "",
 "extent": {
  "xmin": 1658924.9018128347,
  "ymin": 175904.9569971603,
  "xmax": 1664914.8708072186,
  "ymax": 182609.02149739143,
  "spatialReference": {
   "wkid": 102679,
   "latestWkid": 2246
  }
 },
 "initialExtent": {
  "xmin": 1658924.9018128347,
  "ymin": 175904.9569971603,
  "xmax": 1664914.8708072186,
  "ymax": 182609.02149739143,
  "spatialReference": {
   "wkid": 102679,
   "latestWkid": 2246
  }
 },
 "fullExtent": {
  "xmin": 1658924.9018128347,
  "ymin": 175904.9569971603,
  "xmax": 1664914.8708072186,
  "ymax": 182609.02149739143,
  "spatialReference": {
   "wkid": 102679,
   "latestWkid": 2246
  }
 },
 "sortableFields": "",
 "bandCount": 3,
 "pixelType": "U8",
 "minValues": [],
 "maxValues": [],
 "meanValues": [],
 "stdvValues": [],
 "hasMultidimensions": false,
 "pixelSizeX": 2.993487753315309,
 "pixelSizeY": 2.601499612041568,
 "meanPixelSize": 0.8526777798359478,
 "datasetFormat": "JFIF",
 "uncompressedSize": 15469731,
 "blockWidth": 2001,
 "blockHeight": 1,
 "compressionType": "JPEG",
 "bandNames": [
  "Band_1",
  "Band_2",
  "Band_3"
 ],
 "allowCopy": true,
 "allowAnalysis": true,
 "itemAccess": false,
 "inspectionCapabilities": "",
 "minPixelSize": 0,
 "maxPixelSize": 0,
 "copyrightText": "",
 "serviceDataType": "esriImageServiceDataTypeRGB",
 "serviceSourceType": "esriImageServiceSourceTypeDataset",
 "objectIdField": "",
 "fields": [],
 "capabilities": "Image,Metadata,Mensuration",
 "defaultMosaicMethod": "Center",
 "allowedMosaicMethods": "",
 "sortField": "",
 "sortValue": null,
 "sortAscending": true,
 "mosaicOperator": "First",
 "defaultCompressionQuality": 75,
 "defaultResamplingMethod": "Bilinear",
 "maxImageHeight": 4100,
 "maxImageWidth": 15000,
 "allowRasterFunction": true,
 "rasterFunctionInfos": [
  {
   "name": "None",
   "description": "",
   "help": ""
  }
 ],
 "rasterTypeInfos": [
  {
   "name": "Raster Dataset",
   "description": "Supports all ArcGIS Raster Datasets",
   "help": ""
  }
 ],
 "mensurationCapabilities": "Basic",
 "hasHistograms": false,
 "hasColormap": false,
 "hasRasterAttributeTable": false,
 "minScale": 0,
 "maxScale": 0,
 "exportTilesAllowed": false,
 "supportsStatistics": false,
 "supportsAdvancedQueries": false,
 "editFieldsInfo": null,
 "ownershipBasedAccessControlForRasters": null,
 "allowComputeTiePoints": false,
 "useStandardizedQueries": true,
 "advancedQueryCapabilities": {
  "useStandardizedQueries": true,
  "supportsStatistics": false,
  "supportsOrderBy": false,
  "supportsDistinct": false,
  "supportsPagination": false
 },
 "spatialReference": {
  "wkid": 102679,
  "latestWkid": 2246
 }
}
