{
 "currentVersion": 11.2,
 "serviceDescription": "MISC/USGSTOPO",
 "name": "MISC/USGSTOPO",
 "description": "",
 "extent": {
  "xmin": 1611451.3873655493,
  "ymin": 116763.3260997789,
  "xmax": 1723318.0540217976,
  "ymax": 225269.9927563401,
  "spatialReference": {
   "wkid": 102679,
   "latestWkid": 2246
  }
 },
 "initialExtent": {
  "xmin": 1611451.3873655493,
  "ymin": 116763.3260997789,
  "xmax": 1723318.0540217976,
  "ymax": 225269.9927563401,
  "spatialReference": {
   "wkid": 102679,
   "latestWkid": 2246
  }
 },
 "fullExtent": {
  "xmin": 1611451.3873655493,
  "ymin": 116763.3260997789,
  "xmax": 1723318.0540217976,
  "ymax": 225269.9927563401,
  "spatialReference": {
   "wkid": 102679,
   "latestWkid": 2246
  }
 },
 "sortableFields": "",
 "bandCount": 3,
 "pixelType": "U16",
 "minValues": [
  0,
  0,
  0
 ],
 "maxValues": [
  255,
  255,
  255
 ],
 "meanValues": [
  222.3104372971984,
  213.50609371986832,
  203.7242001857799
 ],
 "stdvValues": [
  53.45667833755235,
  66.86296984882298,
  74.06867912734477
 ],
 "hasMultidimensions": false,
 "pixelSizeX": 6.666666666045785,
 "pixelSizeY": 6.666666666045785,
 "meanPixelSize": 2.032004063818883,
 "datasetFormat": "FGDBR",
 "uncompressedSize": 1638667680,
 "blockWidth": 128,
 "blockHeight": 128,
 "compressionType": "LZ77",
 "bandNames": [
  "Band_1",
  "Band_2",
  "Band_3"
 ],
 "allowCopy": true,
 "allowAnalysis": true,
 "itemAccess": false,
 "inspectionCapabilities": "",
 "minPixelSize": 0,
 "maxPixelSize": 0,
 "copyrightText": "",
 "serviceDataType": "esriImageServiceDataTypeGeneric",
 "serviceSourceType": "esriImageServiceSourceTypeDataset",
 "objectIdField": "",
 "fields": [],
 "capabilities": "Image,Metadata,Mensuration",
 "defaultMosaicMethod": "Center",
 "allowedMosaicMethods": "",
 "sortField": "",
 "sortValue": null,
 "sortAscending": true,
 "mosaicOperator": "First",
 "defaultCompressionQuality": 75,
 "defaultResamplingMethod": "Bilinear",
 "maxImageHeight": 4100,
 "maxImageWidth": 15000,
 "allowRasterFunction": true,
 "rasterFunctionInfos": [
  {
   "name": "None",
   "description": "",
   "help": ""
  }
 ],
 "rasterTypeInfos": [
  {
   "name": "Raster Dataset",
   "description": "Supports all ArcGIS Raster Datasets",
   "help": ""
  }
 ],
 "mensurationCapabilities": "Basic",
 "hasHistograms": true,
 "hasColormap": false,
 "hasRasterAttributeTable": false,
 "minScale": 0,
 "maxScale": 0,
 "exportTilesAllowed": false,
 "supportsStatistics": false,
 "supportsAdvancedQueries": false,
 "editFieldsInfo": null,
 "ownershipBasedAccessControlForRasters": null,
 "allowComputeTiePoints": false,
 "useStandardizedQueries": true,
 "advancedQueryCapabilities": {
  "useStandardizedQueries": true,
  "supportsStatistics": false,
  "supportsOrderBy": false,
  "supportsDistinct": false,
  "supportsPagination": false
 },
 "spatialReference": {
  "wkid": 102679,
  "latestWkid": 2246
 }
}
