View In:
ArcGIS JavaScript
ArcGIS Online Map Viewer
ArcGIS Earth
Service Description: AERIALS/2022Aerial
Name: AERIALS/2022Aerial
Description:
Single Fused Map Cache: false
Extent:
XMin: 1610399.999999995
YMin: 115896.1645018776
XMax: 1723919.8356037224
YMax: 224136.000000005
Spatial Reference: 102679
(2246)
Initial Extent:
XMin: 1610399.999999995
YMin: 115896.1645018776
XMax: 1723919.8356037224
YMax: 224136.000000005
Spatial Reference: 102679
(2246)
Full Extent:
XMin: 1610399.999999995
YMin: 115896.1645018776
XMax: 1723919.8356037224
YMax: 224136.000000005
Spatial Reference: 102679
(2246)
Pixel Size X: 0.16666666999999596
Pixel Size Y: 0.166666669999996
Band Count: 3
Pixel Type: U8
RasterFunction Infos: {"rasterFunctionInfos": [{
"name": "None",
"description": "",
"help": ""
}]}
Mensuration Capabilities: Basic
Inspection Capabilities:
Has Histograms: true
Has Colormap: false
Has Multi Dimensions : false
Rendering Rule:
Min Scale: 0
Max Scale: 0
Copyright Text:
Service Data Type: esriImageServiceDataTypeRGB
Min Values: 53, 51, 48
Max Values: 255, 255, 255
Mean Values: 181.88095238095, 173.08482142857, 166.11517857143
Standard Deviation Values: 58.695943674626, 64.190016992642, 68.410250175941
Object ID Field:
Fields:
None
Default Mosaic Method: Center
Allowed Mosaic Methods:
SortField:
SortValue: null
Mosaic Operator: First
Default Compression Quality: 75
Default Resampling Method: Bilinear
Max Record Count: null
Max Image Height: 4100
Max Image Width: 15000
Max Download Image Count: null
Max Mosaic Image Count: null
Allow Raster Function: true
Allow Copy: true
Allow Analysis: true
Allow Compute TiePoints: false
Supports Statistics: false
Supports Advanced Queries: false
Use StandardizedQueries: true
Raster Type Infos:
Name: Raster Dataset
Description: Supports all ArcGIS Raster Datasets
Help:
Has Raster Attribute Table: false
Edit Fields Info: null
Ownership Based AccessControl For Rasters: null
Child Resources:
Info
Histograms
Statistics
Key Properties
Legend
Raster Function Infos
Supported Operations:
Export Image
Identify
Measure
Compute Histograms
Compute Statistics Histograms
Get Samples
Compute Class Statistics
Query Boundary
Compute Pixel Location
Compute Angles
Validate
Project