View In:
ArcGIS JavaScript
ArcGIS Online Map Viewer
ArcGIS Earth
Service Description: HISTORIClayers/1877winE_jpg
Name: HISTORIClayers/1877winE_jpg
Description:
Single Fused Map Cache: false
Extent:
XMin: 1658924.9018128347
YMin: 175904.9569971603
XMax: 1664914.8708072186
YMax: 182609.02149739143
Spatial Reference: 102679
(2246)
Initial Extent:
XMin: 1658924.9018128347
YMin: 175904.9569971603
XMax: 1664914.8708072186
YMax: 182609.02149739143
Spatial Reference: 102679
(2246)
Full Extent:
XMin: 1658924.9018128347
YMin: 175904.9569971603
XMax: 1664914.8708072186
YMax: 182609.02149739143
Spatial Reference: 102679
(2246)
Pixel Size X: 2.993487753315309
Pixel Size Y: 2.601499612041568
Band Count: 3
Pixel Type: U8
RasterFunction Infos: {"rasterFunctionInfos": [{
"name": "None",
"description": "",
"help": ""
}]}
Mensuration Capabilities: Basic
Inspection Capabilities:
Has Histograms: false
Has Colormap: false
Has Multi Dimensions : false
Rendering Rule:
Min Scale: 0
Max Scale: 0
Copyright Text:
Service Data Type: esriImageServiceDataTypeRGB
Min Values: N/A
Max Values: N/A
Mean Values: N/A
Standard Deviation Values: N/A
Object ID Field:
Fields:
None
Default Mosaic Method: Center
Allowed Mosaic Methods:
SortField:
SortValue: null
Mosaic Operator: First
Default Compression Quality: 75
Default Resampling Method: Bilinear
Max Record Count: null
Max Image Height: 4100
Max Image Width: 15000
Max Download Image Count: null
Max Mosaic Image Count: null
Allow Raster Function: true
Allow Copy: true
Allow Analysis: true
Allow Compute TiePoints: false
Supports Statistics: false
Supports Advanced Queries: false
Use StandardizedQueries: true
Raster Type Infos:
Name: Raster Dataset
Description: Supports all ArcGIS Raster Datasets
Help:
Has Raster Attribute Table: false
Edit Fields Info: null
Ownership Based AccessControl For Rasters: null
Child Resources:
Info
Statistics
Key Properties
Legend
Raster Function Infos
Supported Operations:
Export Image
Identify
Measure
Compute Histograms
Compute Statistics Histograms
Get Samples
Compute Class Statistics
Query Boundary
Compute Pixel Location
Compute Angles
Validate
Project