View In:
ArcGIS JavaScript
ArcGIS Online Map Viewer
ArcGIS Earth
Service Description: MISC/USGSTOPO
Name: MISC/USGSTOPO
Description:
Single Fused Map Cache: false
Extent:
XMin: 1611451.3873655493
YMin: 116763.3260997789
XMax: 1723318.0540217976
YMax: 225269.9927563401
Spatial Reference: 102679
(2246)
Initial Extent:
XMin: 1611451.3873655493
YMin: 116763.3260997789
XMax: 1723318.0540217976
YMax: 225269.9927563401
Spatial Reference: 102679
(2246)
Full Extent:
XMin: 1611451.3873655493
YMin: 116763.3260997789
XMax: 1723318.0540217976
YMax: 225269.9927563401
Spatial Reference: 102679
(2246)
Pixel Size X: 6.666666666045785
Pixel Size Y: 6.666666666045785
Band Count: 3
Pixel Type: U16
RasterFunction Infos: {"rasterFunctionInfos": [{
"name": "None",
"description": "",
"help": ""
}]}
Mensuration Capabilities: Basic
Inspection Capabilities:
Has Histograms: true
Has Colormap: false
Has Multi Dimensions : false
Rendering Rule:
Min Scale: 0
Max Scale: 0
Copyright Text:
Service Data Type: esriImageServiceDataTypeGeneric
Min Values: 0, 0, 0
Max Values: 255, 255, 255
Mean Values: 222.3104372971984, 213.50609371986832, 203.7242001857799
Standard Deviation Values: 53.45667833755235, 66.86296984882298, 74.06867912734477
Object ID Field:
Fields:
None
Default Mosaic Method: Center
Allowed Mosaic Methods:
SortField:
SortValue: null
Mosaic Operator: First
Default Compression Quality: 75
Default Resampling Method: Bilinear
Max Record Count: null
Max Image Height: 4100
Max Image Width: 15000
Max Download Image Count: null
Max Mosaic Image Count: null
Allow Raster Function: true
Allow Copy: true
Allow Analysis: true
Allow Compute TiePoints: false
Supports Statistics: false
Supports Advanced Queries: false
Use StandardizedQueries: true
Raster Type Infos:
Name: Raster Dataset
Description: Supports all ArcGIS Raster Datasets
Help:
Has Raster Attribute Table: false
Edit Fields Info: null
Ownership Based AccessControl For Rasters: null
Child Resources:
Info
Histograms
Statistics
Key Properties
Legend
Raster Function Infos
Supported Operations:
Export Image
Identify
Measure
Compute Histograms
Compute Statistics Histograms
Get Samples
Compute Class Statistics
Query Boundary
Compute Pixel Location
Compute Angles
Validate
Project